BEGIN:VCALENDAR
METHOD:PUBLISH
PRODID:-//github.com/rianjs/ical.net//NONSGML ical.net 4.0//EN
VERSION:2.0
X-WR-CALNAME:Longfellow Elementary PTA
BEGIN:VEVENT
CREATED:20250822T101801
DTEND;VALUE=DATE:20260411
DTSTAMP:20260423T102902Z
DTSTART;VALUE=DATE:20260406
LAST-MODIFIED:20250822T101801
SEQUENCE:0
STATUS:CONFIRMED
SUMMARY:Spring Recess - NO SCHOOL
TRANSP:TRANSPARENT
UID:143223@ourschoolpages.com
END:VEVENT
END:VCALENDAR
